BEGIN:VCALENDAR
VERSION:2.0
BEGIN:VEVENT
DTSTART;TZID=Europe/Stockholm:20260422T140000
DTEND;TZID=Europe/Stockholm:20260422T150000
DTSTAMP:20260421T110705
DESCRIPTION:... på Korttidsenheten Visby
Anna Ljung talar & leder
Georg Johansson spelar
Annbritt Lindqvist är kyrkvärd
SEQUENCE:0
SUMMARY:Andakt
UID:9346@lawebb.se
END:VEVENT
END:VCALENDAR