BEGIN:VCALENDAR
VERSION:2.0
BEGIN:VEVENT
DTSTART;TZID=Europe/Stockholm:20260422T093000
DTEND;TZID=Europe/Stockholm:20260422T103000
DTSTAMP:20260421T110404
DESCRIPTION:Sara Boström, Britt Björkqvist & 
Anna Ljung
SEQUENCE:0
SUMMARY:Musiklekis Bim Bom Bam
UID:6524@lawebb.se
END:VEVENT
END:VCALENDAR