BEGIN:VCALENDAR
VERSION:2.0
BEGIN:VEVENT
DTSTART;TZID=Europe/Stockholm:20260420T190000
DTEND;TZID=Europe/Stockholm:20260420T200000
DTSTAMP:20260421T110116
DESCRIPTION:... i Equmeniakyrkan Väte
Tema: Att vara ledare för barn & ungdomar
Föreläsare: Kjell Gardarfve
Arrangörer: Gotlands kristna råd
SEQUENCE:0
SUMMARY:Kväll för ledare för barn & ungdomar
UID:9388@lawebb.se
END:VEVENT
END:VCALENDAR