BEGIN:VCALENDAR
VERSION:2.0
BEGIN:VEVENT
DTSTART;TZID=Europe/Stockholm:20260419T110000
DTEND;TZID=Europe/Stockholm:20260419T120000
DTSTAMP:20260421T110648
DESCRIPTION:*Tema: Skapelsen*
Anna Ljung predikar
Solveig Arweson leder
Stefan Karnebäck, Nätverket Grön Kyrka
Ragnar Håkanson spelar orgel
Bön- & offerdag för 
Equmeniakyrkans nationella arbete
Vid kyrkaffet berättar Stefan Karnebäck om Nätverket Grön Kyrka
SEQUENCE:0
SUMMARY:Gudstjänst med nattvard
UID:2225@lawebb.se
END:VEVENT
END:VCALENDAR