BEGIN:VCALENDAR
VERSION:2.0
BEGIN:VEVENT
DTSTART;TZID=Europe/Stockholm:20260416T190000
DTEND;TZID=Europe/Stockholm:20260416T200000
DTSTAMP:20260421T111010
DESCRIPTION:... i Korsbykyrkan, Havdhem
Föreläsning av Åhlbergs begravningsbyrå
SEQUENCE:0
SUMMARY:Gotlands Fria Kristna Samarbetsråds årsmöte
UID:3628@lawebb.se
END:VEVENT
END:VCALENDAR