BEGIN:VCALENDAR
VERSION:2.0
BEGIN:VEVENT
DTSTART;TZID=Europe/Stockholm:20260415T093000
DTEND;TZID=Europe/Stockholm:20260415T103000
DTSTAMP:20260421T110104
DESCRIPTION:Sara Boström, Britt Björkqvist & 
Agnes Thomasson
SEQUENCE:0
SUMMARY:Musiklekis Bim Bom Bam
UID:2763@lawebb.se
END:VEVENT
END:VCALENDAR