BEGIN:VCALENDAR
VERSION:2.0
BEGIN:VEVENT
DTSTART;TZID=Europe/Stockholm:20260412T110000
DTEND;TZID=Europe/Stockholm:20260412T120000
DTSTAMP:20260421T111440
DESCRIPTION:*Tema: Mänskligt, andligt & numerärt växande kyrka*
Regionala kyrkoledaren Anders Jarl predikar
Anna Ljung samordnar
Sara Boström sjunger & spelar
Christina Sandberg, Josefin Lennartsson, Beatrice Tornell 
med flera från våra olika församlingar
SEQUENCE:0
SUMMARY:Tillsammansgudstjänst med Equmeniakyrkan Gotland
UID:3723@lawebb.se
END:VEVENT
END:VCALENDAR