BEGIN:VCALENDAR
VERSION:2.0
BEGIN:VEVENT
DTSTART;TZID=Europe/Stockholm:20260411T180000
DTEND;TZID=Europe/Stockholm:20260411T190000
DTSTAMP:20260421T110742
DESCRIPTION:*Regionala kyrkoledaren Anders Jarl*
*Tema: Diakonal kyrka rotad i Jesus för samhället*
...i Garda Missionskyrka
SEQUENCE:0
SUMMARY:Inspirationskväll med inledande enkel måltid
UID:9746@lawebb.se
END:VEVENT
END:VCALENDAR