BEGIN:VCALENDAR
VERSION:2.0
BEGIN:VEVENT
DTSTART;TZID=Europe/Stockholm:20260410T190000
DTEND;TZID=Europe/Stockholm:20260410T200000
DTSTAMP:20260421T110810
DESCRIPTION:Stina Lindén & Anna Ljung
Gäst: Regionala kyrkoledaren Anders Jarl
SEQUENCE:0
SUMMARY:Ungdomskväll med aktiviteter & fika
UID:4494@lawebb.se
END:VEVENT
END:VCALENDAR