BEGIN:VCALENDAR
VERSION:2.0
BEGIN:VEVENT
DTSTART;TZID=Europe/Stockholm:20260409T190000
DTEND;TZID=Europe/Stockholm:20260409T200000
DTSTAMP:20260421T111334
DESCRIPTION:*Regionala kyrkoledaren Anders Jarl*
... i Equmeniakyrkan Väte
SEQUENCE:0
SUMMARY:Församlingsordförande träffar
UID:4393@lawebb.se
END:VEVENT
END:VCALENDAR