BEGIN:VCALENDAR
VERSION:2.0
BEGIN:VEVENT
DTSTART;TZID=Europe/Stockholm:20260409T180000
DTEND;TZID=Europe/Stockholm:20260409T190000
DTSTAMP:20260421T111326
DESCRIPTION:*Regionala kyrkoledaren Anders Jarl*
... i Equmeniakyrkan Väte
SEQUENCE:0
SUMMARY:Equmeniakyrkan Gotlands styrelse träffar
UID:3495@lawebb.se
END:VEVENT
END:VCALENDAR