BEGIN:VCALENDAR
VERSION:2.0
BEGIN:VEVENT
DTSTART;TZID=Europe/Stockholm:20260409T190000
DTEND;TZID=Europe/Stockholm:20260409T200000
DTSTAMP:20260421T111255
DESCRIPTION:... i Vårdklockans kyrka
SEQUENCE:0
SUMMARY:Sinnesrogudstjänst
UID:4837@lawebb.se
END:VEVENT
END:VCALENDAR