BEGIN:VCALENDAR
VERSION:2.0
BEGIN:VEVENT
DTSTART;TZID=Europe/Stockholm:20260406T110000
DTEND;TZID=Europe/Stockholm:20260406T120000
DTSTAMP:20260421T110930
DESCRIPTION:... i Domkyrkan
Josefin Lennartsson predikar
Alma Hedlund ansvarar för sång & musik
Petra Guteskär samordnar
Ytterligare präster, pastorer & diakoner från 
olika församlingarna i Visby medverkar
SEQUENCE:0
SUMMARY:Ekumenisk gudstjänst - Annandag påsk
UID:8444@lawebb.se
END:VEVENT
END:VCALENDAR