BEGIN:VCALENDAR
VERSION:2.0
BEGIN:VEVENT
DTSTART;TZID=Europe/Stockholm:20260405T110000
DTEND;TZID=Europe/Stockholm:20260405T120000
DTSTAMP:20260421T110649
DESCRIPTION:*Kristus är uppstånden*
Anna Ljung predikar
Stina Helledaij leder
Britt Björkqvist sjunger
Georg Johansson spelar orgel
Ny medlem välkomnas
SEQUENCE:0
SUMMARY:Gudstjänst - Påskdagen
UID:5473@lawebb.se
END:VEVENT
END:VCALENDAR