BEGIN:VCALENDAR
VERSION:2.0
BEGIN:VEVENT
DTSTART;TZID=Europe/Stockholm:20260403T123000
DTEND;TZID=Europe/Stockholm:20260403T133000
DTSTAMP:20260421T111128
DESCRIPTION:Samling vid S:t Karins ruin för
vandring ut till Galgberget
Obs: senarelagd samlingstid
SEQUENCE:0
SUMMARY:Ekumenisk korsvandring - Långfredagen
UID:8772@lawebb.se
END:VEVENT
END:VCALENDAR