BEGIN:VCALENDAR
VERSION:2.0
BEGIN:VEVENT
DTSTART;TZID=Europe/Stockholm:20260402T190000
DTEND;TZID=Europe/Stockholm:20260402T200000
DTSTAMP:20260421T110930
DESCRIPTION:... i Vårdklockans kyrka
SEQUENCE:0
SUMMARY:Getsemanestund med nattvard
UID:4765@lawebb.se
END:VEVENT
END:VCALENDAR