BEGIN:VCALENDAR
VERSION:2.0
BEGIN:VEVENT
DTSTART;TZID=Europe/Stockholm:20251202T140000
DTEND;TZID=Europe/Stockholm:20251202T150000
DTSTAMP:20260420T102420
DESCRIPTION:En stund av gemenskap & fika
SEQUENCE:0
SUMMARY:Tisdagsträffen
UID:5759@lawebb.se
END:VEVENT
END:VCALENDAR