BEGIN:VCALENDAR
VERSION:2.0
BEGIN:VEVENT
DTSTART;TZID=Europe/Stockholm:20250930T140000
DTEND;TZID=Europe/Stockholm:20250930T150000
DTSTAMP:20260421T110741
DESCRIPTION:En stund av gemenskap & fika
SEQUENCE:0
SUMMARY:Tisdagsträffen
UID:6449@lawebb.se
END:VEVENT
END:VCALENDAR