BEGIN:VCALENDAR
VERSION:2.0
BEGIN:VEVENT
DTSTART;TZID=Europe/Stockholm:20250929T090000
DTEND;TZID=Europe/Stockholm:20250929T100000
DTSTAMP:20260421T111202
DESCRIPTION:
SEQUENCE:0
SUMMARY:Arbete ute
UID:4675@lawebb.se
END:VEVENT
END:VCALENDAR