BEGIN:VCALENDAR
VERSION:2.0
BEGIN:VEVENT
DTSTART;TZID=Europe/Stockholm:20250928T160000
DTEND;TZID=Europe/Stockholm:20250928T170000
DTSTAMP:20260421T111507
DESCRIPTION:*Gotlands kristna råd*
&#34;Tid för Guds fred&#34; Helén Engkvist predikar
Forum då Pia Toftenius från domkyrkans konfirmandarbete 
berättar & reflekterar
Årsmöte
SEQUENCE:0
SUMMARY:Gudstjänst, forum & årsmöte
UID:4889@lawebb.se
END:VEVENT
END:VCALENDAR