BEGIN:VCALENDAR
VERSION:2.0
BEGIN:VEVENT
DTSTART;TZID=Europe/Stockholm:20250926T190000
DTEND;TZID=Europe/Stockholm:20250926T200000
DTSTAMP:20260421T111424
DESCRIPTION:Stina Lindén & Anna Ljung
SEQUENCE:0
SUMMARY:Ungdomskväll med aktiviteter & fika
UID:3624@lawebb.se
END:VEVENT
END:VCALENDAR