BEGIN:VCALENDAR
VERSION:2.0
BEGIN:VEVENT
DTSTART;TZID=Europe/Stockholm:20250925T093000
DTEND;TZID=Europe/Stockholm:20250925T103000
DTSTAMP:20260421T111439
DESCRIPTION:Vi läser, samtalar, ber & fikar 
Anna Ljung
SEQUENCE:0
SUMMARY:Bibelsamtal & bön
UID:3754@lawebb.se
END:VEVENT
END:VCALENDAR