BEGIN:VCALENDAR
VERSION:2.0
BEGIN:VEVENT
DTSTART;TZID=Europe/Stockholm:20250925T190000
DTEND;TZID=Europe/Stockholm:20250925T200000
DTSTAMP:20260421T111425
DESCRIPTION:*Tema: Vägen tillbaka*
Niklas Ulmstedt delar
Kjell Gardarfve sjunger
Sara Boström spelar
Anna Ljung leder
SEQUENCE:0
SUMMARY:Sinnesrogudstjänst
UID:3983@lawebb.se
END:VEVENT
END:VCALENDAR