BEGIN:VCALENDAR
VERSION:2.0
BEGIN:VEVENT
DTSTART;TZID=Europe/Stockholm:20250924T183000
DTEND;TZID=Europe/Stockholm:20250924T193000
DTSTAMP:20260421T111603
DESCRIPTION:Under ledning av Birgitta Svensson, 
Studieförbundet Bilda
SEQUENCE:0
SUMMARY:Kurs i konflikthantering
UID:9526@lawebb.se
END:VEVENT
END:VCALENDAR