BEGIN:VCALENDAR
VERSION:2.0
BEGIN:VEVENT
DTSTART;TZID=Europe/Stockholm:20250921T110000
DTEND;TZID=Europe/Stockholm:20250921T120000
DTSTAMP:20260421T111257
DESCRIPTION:*Med konfalägrets återträff*
Anna Ljung, Anders Fryk, Christina Sandberg, 
Agnes Thomasson, Emma Axelsson 
och konfalägrets deltagare
Ragnar Håkanson spelar orgel
SEQUENCE:0
SUMMARY:Gudstjänst
UID:8468@lawebb.se
END:VEVENT
END:VCALENDAR