BEGIN:VCALENDAR
VERSION:2.0
BEGIN:VEVENT
DTSTART;TZID=Europe/Stockholm:20250920T190000
DTEND;TZID=Europe/Stockholm:20250920T200000
DTSTAMP:20260421T111601
DESCRIPTION:... i Visby Pingstkyrka
Stina & Jonathan Lindén med flera
SEQUENCE:0
SUMMARY:UN(G)IK - Lördagskväll för unga vuxna
UID:3634@lawebb.se
END:VEVENT
END:VCALENDAR