BEGIN:VCALENDAR
VERSION:2.0
BEGIN:VEVENT
DTSTART;TZID=Europe/Stockholm:20250918T093000
DTEND;TZID=Europe/Stockholm:20250918T103000
DTSTAMP:20260421T145449
DESCRIPTION:Vi läser, samtalar, ber & fikar
SEQUENCE:0
SUMMARY:Bibelsamtal & bön
UID:6654@lawebb.se
END:VEVENT
END:VCALENDAR