BEGIN:VCALENDAR
VERSION:2.0
BEGIN:VEVENT
DTSTART;TZID=Europe/Stockholm:20250916T140000
DTEND;TZID=Europe/Stockholm:20250916T150000
DTSTAMP:20260421T150119
DESCRIPTION:En stund av gemenskap & fika
SEQUENCE:0
SUMMARY:Tisdagsträffen
UID:3383@lawebb.se
END:VEVENT
END:VCALENDAR