BEGIN:VCALENDAR
VERSION:2.0
BEGIN:VEVENT
DTSTART;TZID=Europe/Stockholm:20250914T110000
DTEND;TZID=Europe/Stockholm:20250914T120000
DTSTAMP:20260421T111327
DESCRIPTION:Anna Ljung predikar
Kjell Larsson leder
Ingrid Arvidsson & Per Henrikson sjunger
Sara Boström spelar piano
SEQUENCE:0
SUMMARY:Tillsammansgudstjänst
UID:5872@lawebb.se
END:VEVENT
END:VCALENDAR