BEGIN:VCALENDAR
VERSION:2.0
BEGIN:VEVENT
DTSTART;TZID=Europe/Stockholm:20250912T190000
DTEND;TZID=Europe/Stockholm:20250912T200000
DTSTAMP:20260421T105642
DESCRIPTION:Stina Lindén, Agnes Thomasson & 
Anna Ljung
SEQUENCE:0
SUMMARY:Ungdomskväll med aktiviteter & fika
UID:6895@lawebb.se
END:VEVENT
END:VCALENDAR