BEGIN:VCALENDAR
VERSION:2.0
BEGIN:VEVENT
DTSTART;TZID=Europe/Stockholm:20250911T190000
DTEND;TZID=Europe/Stockholm:20250911T200000
DTSTAMP:20260421T111603
DESCRIPTION:*- Suicidpreventiva veckan*
.. i Vårdklockans kyrka
SEQUENCE:0
SUMMARY:Sinnesrogudstjänst
UID:4282@lawebb.se
END:VEVENT
END:VCALENDAR