BEGIN:VCALENDAR
VERSION:2.0
BEGIN:VEVENT
DTSTART;TZID=Europe/Stockholm:20250911T093000
DTEND;TZID=Europe/Stockholm:20250911T103000
DTSTAMP:20260421T111501
DESCRIPTION:
SEQUENCE:0
SUMMARY:Bibelsamtal & bön - INSTÄLLT
UID:2722@lawebb.se
END:VEVENT
END:VCALENDAR