BEGIN:VCALENDAR
VERSION:2.0
BEGIN:VEVENT
DTSTART;TZID=Europe/Stockholm:20250910T200000
DTEND;TZID=Europe/Stockholm:20250910T210000
DTSTAMP:20260421T110100
DESCRIPTION:Vi går från Tjelvarkyrkan till Domkyrkan 
för ljuständning & stilla musik
SEQUENCE:0
SUMMARY:Fackeltåg - Suicidpreventiva dagen
UID:7698@lawebb.se
END:VEVENT
END:VCALENDAR