BEGIN:VCALENDAR
VERSION:2.0
BEGIN:VEVENT
DTSTART;TZID=Europe/Stockholm:20250910T183000
DTEND;TZID=Europe/Stockholm:20250910T193000
DTSTAMP:20260421T111507
DESCRIPTION:*Alicia Brandt Rossander -
Suicidpreventiva dagen* 
Tema: Två sidor av samma resa - 
psykisk ohälsa ur olika perspektiv
Musik med Kim Princes
SEQUENCE:0
SUMMARY:Föreläsning med Caroline Brag &
UID:4689@lawebb.se
END:VEVENT
END:VCALENDAR