BEGIN:VCALENDAR
VERSION:2.0
BEGIN:VEVENT
DTSTART;TZID=Europe/Stockholm:20250907T124500
DTEND;TZID=Europe/Stockholm:20250907T134500
DTSTAMP:20260421T111441
DESCRIPTION:
SEQUENCE:0
SUMMARY:Församlingsmöte
UID:5748@lawebb.se
END:VEVENT
END:VCALENDAR