BEGIN:VCALENDAR
VERSION:2.0
BEGIN:VEVENT
DTSTART;TZID=Europe/Stockholm:20250907T110000
DTEND;TZID=Europe/Stockholm:20250907T120000
DTSTAMP:20260421T105308
DESCRIPTION:Anna Ljung predikar
Solveig Arweson leder
Kathrin Dohse spelar tvärflöjt
Georg Johansson spelar orgel
SEQUENCE:0
SUMMARY:Gudstjänst
UID:7924@lawebb.se
END:VEVENT
END:VCALENDAR