BEGIN:VCALENDAR
VERSION:2.0
BEGIN:VEVENT
DTSTART;TZID=Europe/Stockholm:20250906T190000
DTEND;TZID=Europe/Stockholm:20250906T200000
DTSTAMP:20260421T110211
DESCRIPTION:Stina & Jonathan Lindén med flera
SEQUENCE:0
SUMMARY:UN(G)IK - Lördagskväll för unga vuxna
UID:4664@lawebb.se
END:VEVENT
END:VCALENDAR