BEGIN:VCALENDAR
VERSION:2.0
BEGIN:VEVENT
DTSTART;TZID=Europe/Stockholm:20250905T183000
DTEND;TZID=Europe/Stockholm:20250905T193000
DTSTAMP:20260421T110138
DESCRIPTION:*- Suicidpreventiva veckan*
... i Församlingshuset vid Domkyrkan
SEQUENCE:0
SUMMARY:Föreläsning med Ullakarin Nyberg
UID:3323@lawebb.se
END:VEVENT
END:VCALENDAR