BEGIN:VCALENDAR
VERSION:2.0
BEGIN:VEVENT
DTSTART;TZID=Europe/Stockholm:20250904T183000
DTEND;TZID=Europe/Stockholm:20250904T193000
DTSTAMP:20260421T111332
DESCRIPTION:*- Suicidpreventiva veckan*
... Wisbygymnasiets hörsal
SEQUENCE:0
SUMMARY:Föreläsning med Henrik Wahlström
UID:8864@lawebb.se
END:VEVENT
END:VCALENDAR