BEGIN:VCALENDAR
VERSION:2.0
BEGIN:VEVENT
DTSTART;TZID=Europe/Stockholm:20250902T140000
DTEND;TZID=Europe/Stockholm:20250902T150000
DTSTAMP:20260421T105523
DESCRIPTION:En stund av gemenskap & fika
SEQUENCE:0
SUMMARY:Tisdagsträffen - Terminsstart
UID:5398@lawebb.se
END:VEVENT
END:VCALENDAR