BEGIN:VCALENDAR
VERSION:2.0
BEGIN:VEVENT
DTSTART;TZID=Europe/Stockholm:20250828T093000
DTEND;TZID=Europe/Stockholm:20250828T103000
DTSTAMP:20260421T110245
DESCRIPTION:Vi läser, samtalar, ber & fikar 
Anna Ljung
SEQUENCE:0
SUMMARY:Bibelsamtal & bön - Terminsstart
UID:7646@lawebb.se
END:VEVENT
END:VCALENDAR