BEGIN:VCALENDAR
VERSION:2.0
BEGIN:VEVENT
DTSTART;TZID=Europe/Stockholm:20250817T100000
DTEND;TZID=Europe/Stockholm:20250817T110000
DTSTAMP:20260421T105718
DESCRIPTION:Eva Reithner predikar
Ulrika Holmberg leder
Sara Boström spelar piano
SEQUENCE:0
SUMMARY:Tillsammansgudstjänst
UID:9992@lawebb.se
END:VEVENT
END:VCALENDAR