BEGIN:VCALENDAR
VERSION:2.0
BEGIN:VEVENT
DTSTART;TZID=Europe/Stockholm:20250810T190000
DTEND;TZID=Europe/Stockholm:20250810T200000
DTSTAMP:20260421T111500
DESCRIPTION:Jan Olander predikar
Annbritt Lindqvist leder
Georg Johansson spelar orgel
SEQUENCE:0
SUMMARY:Gudstjänst i kvällstid
UID:8552@lawebb.se
END:VEVENT
END:VCALENDAR