BEGIN:VCALENDAR
VERSION:2.0
BEGIN:VEVENT
DTSTART;TZID=Europe/Stockholm:20250706T190000
DTEND;TZID=Europe/Stockholm:20250706T200000
DTSTAMP:20260420T111321
DESCRIPTION:Per Olof Sahlberg predikar
Britt Björkqvist leder
Per Olof Sahlberg & Eva Montelius Sahlberg sjunger
Georg Johansson spelar orgel
SEQUENCE:0
SUMMARY:Gudstjänst i kvällstid
UID:8989@lawebb.se
END:VEVENT
END:VCALENDAR