BEGIN:VCALENDAR
VERSION:2.0
BEGIN:VEVENT
DTSTART;TZID=Europe/Stockholm:20250623T120000
DTEND;TZID=Europe/Stockholm:20250623T130000
DTSTAMP:20260420T103145
DESCRIPTION:*Inledning av Almedalsveckan*
... i Visby domkyrka
SEQUENCE:0
SUMMARY:Ekumenisk gudstjänst -
UID:2687@lawebb.se
END:VEVENT
END:VCALENDAR