BEGIN:VCALENDAR
VERSION:2.0
BEGIN:VEVENT
DTSTART;TZID=Europe/Stockholm:20250622T190000
DTEND;TZID=Europe/Stockholm:20250622T200000
DTSTAMP:20260420T103327
DESCRIPTION:Marcus Johnson predikar
Annbritt Lindqvist leder
Georg Johansson spelar orgel
SEQUENCE:0
SUMMARY:Gudstjänst i kvällstid
UID:2468@lawebb.se
END:VEVENT
END:VCALENDAR