BEGIN:VCALENDAR
VERSION:2.0
BEGIN:VEVENT
DTSTART;TZID=Europe/Stockholm:20250213T190000
DTEND;TZID=Europe/Stockholm:20250213T200000
DTSTAMP:20260420T103015
DESCRIPTION:... i Vårdklockans kyrka
SEQUENCE:0
SUMMARY:Sinnesrogudstjänst
UID:3375@lawebb.se
END:VEVENT
END:VCALENDAR