BEGIN:VCALENDAR
VERSION:2.0
BEGIN:VEVENT
DTSTART;TZID=Europe/Stockholm:20250209T100000
DTEND;TZID=Europe/Stockholm:20250209T110000
DTSTAMP:20260420T103232
DESCRIPTION:... i Strandkyrkan, Burgsvik
Britta Hermansson predikar
Sudersångarna sjunger
Ljuständning med förbön
Anders Jonåker m.fl.
SEQUENCE:0
SUMMARY:Gudstjänst - Växtpool Gotland
UID:8495@lawebb.se
END:VEVENT
END:VCALENDAR