BEGIN:VCALENDAR
VERSION:2.0
BEGIN:VEVENT
DTSTART;TZID=Europe/Stockholm:20250130T093000
DTEND;TZID=Europe/Stockholm:20250130T103000
DTSTAMP:20260420T102451
DESCRIPTION:Vi läser Romarbrevet, samtalar, ber & fikar 
Anna Ljung
SEQUENCE:0
SUMMARY:Bibelsamtal & bön
UID:2885@lawebb.se
END:VEVENT
END:VCALENDAR