BEGIN:VCALENDAR
VERSION:2.0
BEGIN:VEVENT
DTSTART;TZID=Europe/Stockholm:20250129T093000
DTEND;TZID=Europe/Stockholm:20250129T103000
DTSTAMP:20260420T102558
DESCRIPTION:Sara Boström, Britt Björkqvist & Anna Ljung
SEQUENCE:0
SUMMARY:Musiklekis Bim Bom Bam
UID:3946@lawebb.se
END:VEVENT
END:VCALENDAR